BEGIN:VCALENDAR
VERSION:2.0
PRODID:-//Senioren-Union Kreisverband Deggendorf - ECPv6.3.0//NONSGML v1.0//EN
CALSCALE:GREGORIAN
METHOD:PUBLISH
X-WR-CALNAME:Senioren-Union Kreisverband Deggendorf
X-ORIGINAL-URL:https://senioren-union-deggendorf.de
X-WR-CALDESC:Veranstaltungen für Senioren-Union Kreisverband Deggendorf
REFRESH-INTERVAL;VALUE=DURATION:PT1H
X-Robots-Tag:noindex
X-PUBLISHED-TTL:PT1H
BEGIN:VTIMEZONE
TZID:Europe/Paris
BEGIN:DAYLIGHT
TZOFFSETFROM:+0100
TZOFFSETTO:+0200
TZNAME:CEST
DTSTART:20240331T010000
END:DAYLIGHT
BEGIN:STANDARD
TZOFFSETFROM:+0200
TZOFFSETTO:+0100
TZNAME:CET
DTSTART:20241027T010000
END:STANDARD
END:VTIMEZONE
BEGIN:VEVENT
DTSTART;TZID=Europe/Paris:20240305T190000
DTEND;TZID=Europe/Paris:20240305T210000
DTSTAMP:20260420T032633
CREATED:20240302T175322Z
LAST-MODIFIED:20240302T175322Z
UID:3730-1709665200-1709672400@senioren-union-deggendorf.de
SUMMARY:CSU-SEN Stammtisch Osterhofen am 05.03.2024
DESCRIPTION:Liebe CSU-Senioren\, \ngerne laden wir Euch zu unserem gewohnten Stammtisch in Untergessenbach\, am Dienstag\, 05.03.2024\, um 19.00 Uhr\, im GH Eder ein. \n  \nEinladung hier:Einl. Stammtisch GH Eder 05.03.24
URL:https://senioren-union-deggendorf.de/event/csu-sen-stammtisch-osterhofen-am-05-03-2024/
LOCATION:Bayern
ORGANIZER;CN="Senioren-Union-Kreisverband Deggendorf":MAILTO:hermann.hilmer@gmail.com
END:VEVENT
BEGIN:VEVENT
DTSTART;TZID=Europe/Paris:20240320T190000
DTEND;TZID=Europe/Paris:20240320T210000
DTSTAMP:20260420T032633
CREATED:20240317T194703Z
LAST-MODIFIED:20240317T194703Z
UID:3736-1710961200-1710968400@senioren-union-deggendorf.de
SUMMARY:Einladung Stammtisch Plattling; Vortrag : Callcenter-Telefonbetrug
DESCRIPTION:Liebe CSU-Senioren\, \ngerne laden wir Euch am Mittwoch\, 20.März 2024\, um 19.00 Uhr\, zum \nVortrag “ Callcenter-Telefonbetrug“ in der Gaststätte SV-Pankofen\, Sportplatz 1\, 94447 Plattling  ein. \nEinladung hier:20.03.24 Einladung Stammtisch \n 
URL:https://senioren-union-deggendorf.de/event/einladung-stammtisch-plattling-vortrag-callcenter-telefonbetrug/
LOCATION:Gaststätte SV-Panofen\, Sportplatz 1\, Plattling\, Bayern\, 94447\, Deutschland
ORGANIZER;CN="Senioren-Union-Kreisverband Deggendorf":MAILTO:hermann.hilmer@gmail.com
END:VEVENT
END:VCALENDAR