BEGIN:VCALENDAR
VERSION:2.0
PRODID:-//Senioren-Union Kreisverband Deggendorf - ECPv6.3.0//NONSGML v1.0//EN
CALSCALE:GREGORIAN
METHOD:PUBLISH
X-WR-CALNAME:Senioren-Union Kreisverband Deggendorf
X-ORIGINAL-URL:https://senioren-union-deggendorf.de
X-WR-CALDESC:Veranstaltungen für Senioren-Union Kreisverband Deggendorf
REFRESH-INTERVAL;VALUE=DURATION:PT1H
X-Robots-Tag:noindex
X-PUBLISHED-TTL:PT1H
BEGIN:VTIMEZONE
TZID:Europe/Paris
BEGIN:DAYLIGHT
TZOFFSETFROM:+0100
TZOFFSETTO:+0200
TZNAME:CEST
DTSTART:20230326T010000
END:DAYLIGHT
BEGIN:STANDARD
TZOFFSETFROM:+0200
TZOFFSETTO:+0100
TZNAME:CET
DTSTART:20231029T010000
END:STANDARD
END:VTIMEZONE
BEGIN:VEVENT
DTSTART;TZID=Europe/Paris:20230502T190000
DTEND;TZID=Europe/Paris:20230502T190000
DTSTAMP:20260420T191850
CREATED:20230428T154708Z
LAST-MODIFIED:20230428T154735Z
UID:3525-1683054000-1683054000@senioren-union-deggendorf.de
SUMMARY:CSU-SEN Stammtisch in Untergessenbach
DESCRIPTION:Liebe CSU-Senioren\, \ngerne laden wir Euch wieder am Dienstag\, 02.05.2023\, um 19.00 Uhr\, \n„GH Eder“ \, zu unserem gewohnten Stammtisch ein. \n  \nEiladaung hier:Einl. Stammtisch GH Eder 02.05.23
URL:https://senioren-union-deggendorf.de/event/csu-sen-stammtisch-in-untergessenbach-9/
LOCATION:Bayern
ORGANIZER;CN="Senioren-Union-Kreisverband Deggendorf":MAILTO:hermann.hilmer@gmail.com
END:VEVENT
BEGIN:VEVENT
DTSTART;TZID=Europe/Paris:20230517T190000
DTEND;TZID=Europe/Paris:20230517T210000
DTSTAMP:20260420T191850
CREATED:20230515T191229Z
LAST-MODIFIED:20230515T191229Z
UID:3530-1684350000-1684357200@senioren-union-deggendorf.de
SUMMARY:SEN-Stammtisch in Plattling mit Vortrag
DESCRIPTION:Liebe CSU-SEN-Mitglieder\, gerne laden wir Euch \nam Mittwoch\, 17.05.20223\, um 19.00 Uhr\, zu dem \ninteressanten Vortrag “ Flutkatastophe Ahrtal“ ein. \n  \nEinladung hier: Einl. Stammtisch GH Spitzenberger 17.05.23 (003)
URL:https://senioren-union-deggendorf.de/event/sen-stammtisch-in-plattling-mit-vortrag/
LOCATION:Bayern
ORGANIZER;CN="Senioren-Union-Kreisverband Deggendorf":MAILTO:hermann.hilmer@gmail.com
END:VEVENT
END:VCALENDAR