BEGIN:VCALENDAR
VERSION:2.0
PRODID:-//Senioren-Union Kreisverband Deggendorf - ECPv6.3.0//NONSGML v1.0//EN
CALSCALE:GREGORIAN
METHOD:PUBLISH
X-ORIGINAL-URL:https://senioren-union-deggendorf.de
X-WR-CALDESC:Veranstaltungen für Senioren-Union Kreisverband Deggendorf
REFRESH-INTERVAL;VALUE=DURATION:PT1H
X-Robots-Tag:noindex
X-PUBLISHED-TTL:PT1H
BEGIN:VTIMEZONE
TZID:Europe/Paris
BEGIN:DAYLIGHT
TZOFFSETFROM:+0100
TZOFFSETTO:+0200
TZNAME:CEST
DTSTART:20220327T010000
END:DAYLIGHT
BEGIN:STANDARD
TZOFFSETFROM:+0200
TZOFFSETTO:+0100
TZNAME:CET
DTSTART:20221030T010000
END:STANDARD
END:VTIMEZONE
BEGIN:VEVENT
DTSTART;TZID=Europe/Paris:20220902T150000
DTEND;TZID=Europe/Paris:20220902T200000
DTSTAMP:20260421T085845
CREATED:20220826T161331Z
LAST-MODIFIED:20220826T161331Z
UID:3338-1662130800-1662148800@senioren-union-deggendorf.de
SUMMARY:Einladung zur Besichtigung des Nepomuk Museum
DESCRIPTION:Liebe CSU-Senioren\, \ngerne laden wir Euch zur Besichtigung des Nepomuk Museum \nam Freitag 02. September\, um 15.00 Uhr \, am Nepomuk Museum in Plattling \, Passauer Str. 25\, und zur anschließenden Brotzeit im Bruckstadel an der Isar ein. \n  \nEinladung hier:Einladung Bes. Nepomukmuseum 02.09..22 \n 
URL:https://senioren-union-deggendorf.de/event/einladung-zur-besichtigung-des-nepomuk-museum/
LOCATION:Bayern
ORGANIZER;CN="Senioren-Union-Kreisverband Deggendorf":MAILTO:hermann.hilmer@gmail.com
END:VEVENT
BEGIN:VEVENT
DTSTART;TZID=Europe/Paris:20220909T160000
DTEND;TZID=Europe/Paris:20220909T190000
DTSTAMP:20260421T085845
CREATED:20220906T175649Z
LAST-MODIFIED:20220906T175649Z
UID:3359-1662739200-1662750000@senioren-union-deggendorf.de
SUMMARY:Besichtigung Musterhaus "Dein Haus 4.0"
DESCRIPTION:Liebe CSU-Senioren \, \n  \nergänzend zum Vortrag „Gesundheitspolitik“ von Prof. Dr. Horst Kunhardt \nbesichten wir am Freitag\, 09. September 2022\, um 16.00 Uhr\, auf dem Gelände der Fa. Wolf System GmbH\, Am Stadtwald 20\, in Osterhofen \ndas Musterhuas “ Dein Haus 4.0″ \n  \nWir freuen uns auf Euer Kommen. \nEinladung hier:SEN-Besichtungung 09.09.22 Fa. Wolf (002)
URL:https://senioren-union-deggendorf.de/event/besichtigung-musterhaus-dein-haus-4-0/
LOCATION:Bayern
END:VEVENT
BEGIN:VEVENT
DTSTART;TZID=Europe/Paris:20220914T190000
DTEND;TZID=Europe/Paris:20220914T210000
DTSTAMP:20260421T085845
CREATED:20220906T173512Z
LAST-MODIFIED:20220906T173512Z
UID:3356-1663182000-1663189200@senioren-union-deggendorf.de
SUMMARY:SEN-Stammtisch Plattling mit Vortrag
DESCRIPTION:Liebe CSU-SEN Mitglieder\, \ngerne laden wir Euch zu dem Vortrag \n“ Wege in den Krieg Die historischen Ursachen des Ukraine Kontflikts“ \nam Mittwoch\, den 14. September\, um 19.00 Uhr\, im GH Spitzenberger in Schiltorn\, ein. \n  \nWir freuen uns auf Euer Kommen \nEinladung hier:SEN-Stammtisch 14.09.22 GH Spitzenberger \n 
URL:https://senioren-union-deggendorf.de/event/sen-stammtisch-plattling-mit-vortrag/
LOCATION:Bayern
END:VEVENT
END:VCALENDAR