BEGIN:VCALENDAR
VERSION:2.0
PRODID:-//Senioren-Union Kreisverband Deggendorf - ECPv6.3.0//NONSGML v1.0//EN
CALSCALE:GREGORIAN
METHOD:PUBLISH
X-ORIGINAL-URL:https://senioren-union-deggendorf.de
X-WR-CALDESC:Veranstaltungen für Senioren-Union Kreisverband Deggendorf
REFRESH-INTERVAL;VALUE=DURATION:PT1H
X-Robots-Tag:noindex
X-PUBLISHED-TTL:PT1H
BEGIN:VTIMEZONE
TZID:Europe/Paris
BEGIN:DAYLIGHT
TZOFFSETFROM:+0100
TZOFFSETTO:+0200
TZNAME:CEST
DTSTART:20220327T010000
END:DAYLIGHT
BEGIN:STANDARD
TZOFFSETFROM:+0200
TZOFFSETTO:+0100
TZNAME:CET
DTSTART:20221030T010000
END:STANDARD
END:VTIMEZONE
BEGIN:VEVENT
DTSTART;TZID=Europe/Paris:20220705T190000
DTEND;TZID=Europe/Paris:20220705T210000
DTSTAMP:20260421T124639
CREATED:20220704T190240Z
LAST-MODIFIED:20220704T190240Z
UID:3107-1657047600-1657054800@senioren-union-deggendorf.de
SUMMARY:Einladung zum SEN Stammtisch Osterhofen
DESCRIPTION:Liebe CSU-Senioren \, \n  \ngerne laden wir Euch am Dienstag\, 05. Juli 2022\, um 19.00 Uhr\, im Gasthaus Eder  in Untergessenbach zu einem sehr interressanten Thema “ Aktuelle Gesiundheitspolitik und Digitalisierung“ ein. \nWir erwarten zahlreiche Erscheinung \n  \nEinladung hier:  Einl. Stammtisch GH Eder 1.6.22 \n 
URL:https://senioren-union-deggendorf.de/event/einladung-zum-sen-stammtisch-osterhofen/
LOCATION:Bayern
END:VEVENT
BEGIN:VEVENT
DTSTART;TZID=Europe/Paris:20220720T190000
DTEND;TZID=Europe/Paris:20220720T210000
DTSTAMP:20260421T124639
CREATED:20220719T140508Z
LAST-MODIFIED:20220719T140508Z
UID:3330-1658343600-1658350800@senioren-union-deggendorf.de
SUMMARY:Einladung zum "SEN-Stammtisch" Plattling Schiltorn
DESCRIPTION:Liebe Senioren\, gerne laden wir Euch am Mittwoch\, 20. Juli\, um 19.00 Uhr \, in GH Spitzenberger in Schiltorn zum interessanten Vortrag „Kein Bargel-keine Freiheit mehr“ \n  \nWir bitten um zahlreiches Erscheinen. \n  \nEinladung hier:Einl. Stammtisch GH Spitzenberger 20.07.22
URL:https://senioren-union-deggendorf.de/event/einladung-zum-sen-stammtisch-plattling-schiltorn/
LOCATION:Bayern
END:VEVENT
END:VCALENDAR