BEGIN:VCALENDAR
VERSION:2.0
PRODID:-//Senioren-Union Kreisverband Deggendorf - ECPv6.3.0//NONSGML v1.0//EN
CALSCALE:GREGORIAN
METHOD:PUBLISH
X-ORIGINAL-URL:https://senioren-union-deggendorf.de
X-WR-CALDESC:Veranstaltungen für Senioren-Union Kreisverband Deggendorf
REFRESH-INTERVAL;VALUE=DURATION:PT1H
X-Robots-Tag:noindex
X-PUBLISHED-TTL:PT1H
BEGIN:VTIMEZONE
TZID:Europe/Paris
BEGIN:DAYLIGHT
TZOFFSETFROM:+0100
TZOFFSETTO:+0200
TZNAME:CEST
DTSTART:20220327T010000
END:DAYLIGHT
BEGIN:STANDARD
TZOFFSETFROM:+0200
TZOFFSETTO:+0100
TZNAME:CET
DTSTART:20221030T010000
END:STANDARD
END:VTIMEZONE
BEGIN:VEVENT
DTSTART;TZID=Europe/Paris:20220622T190000
DTEND;TZID=Europe/Paris:20220622T190000
DTSTAMP:20260421T142351
CREATED:20220620T123815Z
LAST-MODIFIED:20220620T123815Z
UID:3101-1655924400-1655924400@senioren-union-deggendorf.de
SUMMARY:SEN-Stammtisch Plattling
DESCRIPTION:Gerne laden wir Euch zu unserem Stammtisch am Mittwoch\, 22.06.22\, um 19.00 Uhr \, beim Gasthaus „Spitzenberger“ in Shiltorn ein. \n  \nEinladung hier:Einl. Stammtisch Spitzenberger 22.06.22
URL:https://senioren-union-deggendorf.de/event/sen-stammtisch-plattling-8/
LOCATION:Bayern
ORGANIZER;CN="Senioren-Union-Kreisverband Deggendorf":MAILTO:hermann.hilmer@gmail.com
END:VEVENT
BEGIN:VEVENT
DTSTART;TZID=Europe/Paris:20220629T060000
DTEND;TZID=Europe/Paris:20220629T200000
DTSTAMP:20260421T142351
CREATED:20220620T124621Z
LAST-MODIFIED:20220620T124621Z
UID:3103-1656482400-1656532800@senioren-union-deggendorf.de
SUMMARY:Einladung zur Ausfahrt ins Bavaria Filmstudio nach München
DESCRIPTION:Sehr geehrte Damen und Herren\, \ngerne laden wir Euch zu der interessanten Jahresausfahrt am Mittwoch \, 29. Juni 2022 nach München ins „Bavaria Filmstudio ein. \nMelden Sie sich rechtzeitig an. \n  \nEinladung hier:Einladungen Bavaria Filmstadt 29.6.22 – aktuell
URL:https://senioren-union-deggendorf.de/event/einladung-zur-ausfahrt-ins-bavaria-filmstudio-nach-muenchen/
LOCATION:Bayern
END:VEVENT
END:VCALENDAR