BEGIN:VCALENDAR
VERSION:2.0
PRODID:-//Senioren-Union Kreisverband Deggendorf - ECPv6.3.0//NONSGML v1.0//EN
CALSCALE:GREGORIAN
METHOD:PUBLISH
X-ORIGINAL-URL:https://senioren-union-deggendorf.de
X-WR-CALDESC:Veranstaltungen für Senioren-Union Kreisverband Deggendorf
REFRESH-INTERVAL;VALUE=DURATION:PT1H
X-Robots-Tag:noindex
X-PUBLISHED-TTL:PT1H
BEGIN:VTIMEZONE
TZID:Europe/Paris
BEGIN:DAYLIGHT
TZOFFSETFROM:+0100
TZOFFSETTO:+0200
TZNAME:CEST
DTSTART:20220327T010000
END:DAYLIGHT
BEGIN:STANDARD
TZOFFSETFROM:+0200
TZOFFSETTO:+0100
TZNAME:CET
DTSTART:20221030T010000
END:STANDARD
END:VTIMEZONE
BEGIN:VEVENT
DTSTART;TZID=Europe/Paris:20220405T190000
DTEND;TZID=Europe/Paris:20220405T233000
DTSTAMP:20260421T173923
CREATED:20220402T191237Z
LAST-MODIFIED:20220402T191405Z
UID:3008-1649185200-1649201400@senioren-union-deggendorf.de
SUMMARY:SEN-Stammtisch Osterhofen
DESCRIPTION:Liebe CSU-Senioren\, \nzuerst möchten wir zum Tod unseren Vereinswirts\, Herrn Johann Eder\, Frau Sieglinde Eder unser herzliches Beileid ausdrücken. \nFrau Sieglinde Eder wird weiterhin ihre Gastwirtschaft für Unseren SEN-Stammtisch öffnen. Herzlichen Dank ! \nZum unseren Stammtisch am Dienstag\, 05.04.22\, um 19.00 Uhr\, sind Alle wieder herzlich eingeladen. \n  \nEinladung hier: Einl. Stammtisch GH Eder 5.4.22 \n  \n 
URL:https://senioren-union-deggendorf.de/event/sen-stammtisch-osterhofen-11/
LOCATION:Bayern
END:VEVENT
BEGIN:VEVENT
DTSTART;TZID=Europe/Paris:20220422T180000
DTEND;TZID=Europe/Paris:20220422T200000
DTSTAMP:20260421T173923
CREATED:20220417T065925Z
LAST-MODIFIED:20220417T065925Z
UID:3032-1650650400-1650657600@senioren-union-deggendorf.de
SUMMARY:Einladung zum Vortrag "Biographie über Markus Söder"
DESCRIPTION:Liebe CSU-Senioren\, \ngerne laden wir Euch zu einem interessanten Vortrag vom Dr. Roman Deininger\, Chefreporter der Süddeutschen Zeitung\, über die Biographie von Dr.Söder \nam Freitag\, 22. April\, um 18.00 Uhr\, im Gasthaus „Spitzenberger“ in Schiltorn/Plattling ein. \n  \nEinladung hier:Einladung Vortrag
URL:https://senioren-union-deggendorf.de/event/einladung-zum-vortrag-biographie-ueber-markus-soeder/
LOCATION:Bayern
ORGANIZER;CN="Senioren-Union-Kreisverband Deggendorf":MAILTO:hermann.hilmer@gmail.com
END:VEVENT
BEGIN:VEVENT
DTSTART;TZID=Europe/Paris:20220427T160000
DTEND;TZID=Europe/Paris:20220427T213000
DTSTAMP:20260421T173923
CREATED:20220417T064126Z
LAST-MODIFIED:20220417T064126Z
UID:3028-1651075200-1651095000@senioren-union-deggendorf.de
SUMMARY:Einladung zur Bräustüberlfahrt
DESCRIPTION:Liebe CSU-Senioren\, \n  \ngerne laden wir Euch am Mittwoch\, den 27.04.22\, um 16.00 Uhr\, zur Fahrt ins \nBräustüberl nach Alsdersbach ein. \n  \nEinladung hier:Einladung Bräustüberl
URL:https://senioren-union-deggendorf.de/event/einladung-zur-braeustueberlfahrt/
LOCATION:Bräustüberl\, Aldersbach
ORGANIZER;CN="Senioren-Union-Kreisverband Deggendorf":MAILTO:hermann.hilmer@gmail.com
END:VEVENT
END:VCALENDAR