BEGIN:VCALENDAR
VERSION:2.0
PRODID:-//Senioren-Union Kreisverband Deggendorf - ECPv6.3.0//NONSGML v1.0//EN
CALSCALE:GREGORIAN
METHOD:PUBLISH
X-ORIGINAL-URL:https://senioren-union-deggendorf.de
X-WR-CALDESC:Veranstaltungen für Senioren-Union Kreisverband Deggendorf
REFRESH-INTERVAL;VALUE=DURATION:PT1H
X-Robots-Tag:noindex
X-PUBLISHED-TTL:PT1H
BEGIN:VTIMEZONE
TZID:Europe/Paris
BEGIN:DAYLIGHT
TZOFFSETFROM:+0100
TZOFFSETTO:+0200
TZNAME:CEST
DTSTART:20210328T010000
END:DAYLIGHT
BEGIN:STANDARD
TZOFFSETFROM:+0200
TZOFFSETTO:+0100
TZNAME:CET
DTSTART:20211031T010000
END:STANDARD
END:VTIMEZONE
BEGIN:VEVENT
DTSTART;TZID=Europe/Paris:20211005T190000
DTEND;TZID=Europe/Paris:20211005T210000
DTSTAMP:20260422T043744
CREATED:20211003T092343Z
LAST-MODIFIED:20211003T092522Z
UID:2962-1633460400-1633467600@senioren-union-deggendorf.de
SUMMARY:Einladung zum SEN-Stammtisch in Osterhofen
DESCRIPTION:Liebe CSU-Senioren\, \n  \nwürden uns freuen\, wenn Sie zu unserem Stammtisch kommen. \n  \nEinladung hier:Einladung zum SEN
URL:https://senioren-union-deggendorf.de/event/einladung-zum-sen-stammtisch-in-osterhofen/
LOCATION:Bayern
ORGANIZER;CN="Senioren-Union-Kreisverband Deggendorf":MAILTO:hermann.hilmer@gmail.com
END:VEVENT
BEGIN:VEVENT
DTSTART;VALUE=DATE:20211007
DTEND;VALUE=DATE:20211008
DTSTAMP:20260422T043744
CREATED:20210914T182717Z
LAST-MODIFIED:20210914T182717Z
UID:2951-1633564800-1633651199@senioren-union-deggendorf.de
SUMMARY:SEN-Ausflug 2021
DESCRIPTION:Liebe CSU-Senioren\, \n  \ngerne laden wir Euch wieder zum gewohnten Jahresausflug zum Museum \n„Haus der Geschichte“ nach Regens am Donnerstag\, 07. Oktober 2021 ein. \n  \nEinladung hier:Einladung zum Ausflug \n \n  \nWir bitten um rechtzeitige und zahlreiche Anmeldung \n  \nbeim Vorsitzenden Hermann Hilmer
URL:https://senioren-union-deggendorf.de/event/sen-ausflug-2021/
LOCATION:Bayern
ORGANIZER;CN="Senioren-Union-Kreisverband Deggendorf":MAILTO:hermann.hilmer@gmail.com
END:VEVENT
BEGIN:VEVENT
DTSTART;TZID=Europe/Paris:20211020T190000
DTEND;TZID=Europe/Paris:20211020T210000
DTSTAMP:20260422T043744
CREATED:20211019T103427Z
LAST-MODIFIED:20211019T103427Z
UID:2968-1634756400-1634763600@senioren-union-deggendorf.de
SUMMARY:SEN-Stammtisch Plattling
DESCRIPTION:Liebe CSU-Senioren\, \n  \ngerne laden wir Euch wieder zum gewohnten Stammttisch \nam Mittwoch\, 20.10.2021\, um 19.00 Uhr\, im Gasthaus „Spitzenberger“ ein. \n  \nEinladung hier:Einl. Stammtisch Spitzenberger 20.10.21 (003)
URL:https://senioren-union-deggendorf.de/event/sen-stammtisch-plattling-7/
LOCATION:Bayern
ORGANIZER;CN="Senioren-Union-Kreisverband Deggendorf":MAILTO:hermann.hilmer@gmail.com
END:VEVENT
BEGIN:VEVENT
DTSTART;TZID=Europe/Paris:20211029T080000
DTEND;TZID=Europe/Paris:20211029T170000
DTSTAMP:20260422T043744
CREATED:20211029T115105Z
LAST-MODIFIED:20211029T115105Z
UID:2980-1635494400-1635526800@senioren-union-deggendorf.de
SUMMARY:SEN-Stammtisch Osterhofen
DESCRIPTION:Einladung zum Stammtisch GH Eder in Untergessenbach am 02.11.2021\, 19.00 Uhr \n  \nEinladung hier: Einladungen Stammtisch Eder
URL:https://senioren-union-deggendorf.de/event/sen-stammtisch-osterhofen-10/
LOCATION:Bayern
END:VEVENT
END:VCALENDAR