BEGIN:VCALENDAR
VERSION:2.0
PRODID:-//Senioren-Union Kreisverband Deggendorf - ECPv6.3.0//NONSGML v1.0//EN
CALSCALE:GREGORIAN
METHOD:PUBLISH
X-ORIGINAL-URL:https://senioren-union-deggendorf.de
X-WR-CALDESC:Veranstaltungen für Senioren-Union Kreisverband Deggendorf
REFRESH-INTERVAL;VALUE=DURATION:PT1H
X-Robots-Tag:noindex
X-PUBLISHED-TTL:PT1H
BEGIN:VTIMEZONE
TZID:Europe/Paris
BEGIN:DAYLIGHT
TZOFFSETFROM:+0100
TZOFFSETTO:+0200
TZNAME:CEST
DTSTART:20210328T010000
END:DAYLIGHT
BEGIN:STANDARD
TZOFFSETFROM:+0200
TZOFFSETTO:+0100
TZNAME:CET
DTSTART:20211031T010000
END:STANDARD
END:VTIMEZONE
BEGIN:VEVENT
DTSTART;TZID=Europe/Paris:20210706T190000
DTEND;TZID=Europe/Paris:20210706T220000
DTSTAMP:20260422T100840
CREATED:20210704T182352Z
LAST-MODIFIED:20210704T182352Z
UID:2822-1625598000-1625608800@senioren-union-deggendorf.de
SUMMARY:CSU-SEN Stammtisch in Untergessenbach
DESCRIPTION:Liebe CSU-Senoren\, \ndie derzeitige Coronastitation macht es wieder möglich unsere gewohnten \nStammtische fortzuführen. \nEinladung am Dienstag\, 06.Juli\,2021\, um 19.00 Uhr\, im Gasthaus „Eder“ in Untergessenbach hier:Stammtiusch Juli 2021 \n 
URL:https://senioren-union-deggendorf.de/event/csu-sen-stammtisch-in-untergessenbach-4/
LOCATION:Bayern
ORGANIZER;CN="Senioren-Union-Kreisverband Deggendorf":MAILTO:hermann.hilmer@gmail.com
END:VEVENT
BEGIN:VEVENT
DTSTART;TZID=Europe/Paris:20210721T190000
DTEND;TZID=Europe/Paris:20210721T210000
DTSTAMP:20260422T100840
CREATED:20210720T113609Z
LAST-MODIFIED:20210720T113609Z
UID:2828-1626894000-1626901200@senioren-union-deggendorf.de
SUMMARY:CSU-SEN Stammtisch in Plattling
DESCRIPTION:Liebe CSU-Senioren\, gerne laden wir Euch zu unserem gewohnten \nCSU-SEN Stammtisch am Mittwoch\, 21. Juli um 19.00 Uhr\, zum GH „Spitzenberger“ Schiltorn ein. \n  \nEinladung hier:Einladung zum SEN
URL:https://senioren-union-deggendorf.de/event/csu-sen-stammtisch-in-plattling-3/
LOCATION:Bayern
ORGANIZER;CN="Senioren-Union-Kreisverband Deggendorf":MAILTO:hermann.hilmer@gmail.com
END:VEVENT
END:VCALENDAR