BEGIN:VCALENDAR
VERSION:2.0
PRODID:-//Senioren-Union Kreisverband Deggendorf - ECPv6.3.0//NONSGML v1.0//EN
CALSCALE:GREGORIAN
METHOD:PUBLISH
X-WR-CALNAME:Senioren-Union Kreisverband Deggendorf
X-ORIGINAL-URL:https://senioren-union-deggendorf.de
X-WR-CALDESC:Veranstaltungen für Senioren-Union Kreisverband Deggendorf
REFRESH-INTERVAL;VALUE=DURATION:PT1H
X-Robots-Tag:noindex
X-PUBLISHED-TTL:PT1H
BEGIN:VTIMEZONE
TZID:Europe/Paris
BEGIN:DAYLIGHT
TZOFFSETFROM:+0100
TZOFFSETTO:+0200
TZNAME:CEST
DTSTART:20230326T010000
END:DAYLIGHT
BEGIN:STANDARD
TZOFFSETFROM:+0200
TZOFFSETTO:+0100
TZNAME:CET
DTSTART:20231029T010000
END:STANDARD
END:VTIMEZONE
BEGIN:VEVENT
DTSTART;TZID=Europe/Paris:20230920T190000
DTEND;TZID=Europe/Paris:20230920T210000
DTSTAMP:20260420T143221
CREATED:20230917T180747Z
LAST-MODIFIED:20230917T180747Z
UID:3618-1695236400-1695243600@senioren-union-deggendorf.de
SUMMARY:SEN-Stammtisch Plattling im neuen Lokal des SV-Pankofen
DESCRIPTION:Gerne laden wir Euch im neuen Vereinslokal des SV-Pankofen am Mittwoch\, 20. Sept. um 19.00 Uhr ein. \n  \nEinladung hier:Einladung Stammtisch Plattling
URL:https://senioren-union-deggendorf.de/event/sen-stammtisch-plattling-im-neuen-lokal-des-sv-pankofen/
LOCATION:Gaststätte SV-Panofen\, Sportplatz 1\, Plattling\, Bayern\, 94447\, Deutschland
ORGANIZER;CN="Senioren-Union-Kreisverband Deggendorf":MAILTO:hermann.hilmer@gmail.com
END:VEVENT
END:VCALENDAR