BEGIN:VCALENDAR
VERSION:2.0
PRODID:-//Senioren-Union Kreisverband Deggendorf - ECPv6.3.0//NONSGML v1.0//EN
CALSCALE:GREGORIAN
METHOD:PUBLISH
X-ORIGINAL-URL:https://senioren-union-deggendorf.de
X-WR-CALDESC:Veranstaltungen für Senioren-Union Kreisverband Deggendorf
REFRESH-INTERVAL;VALUE=DURATION:PT1H
X-Robots-Tag:noindex
X-PUBLISHED-TTL:PT1H
BEGIN:VTIMEZONE
TZID:Europe/Paris
BEGIN:DAYLIGHT
TZOFFSETFROM:+0100
TZOFFSETTO:+0200
TZNAME:CEST
DTSTART:20230326T010000
END:DAYLIGHT
BEGIN:STANDARD
TZOFFSETFROM:+0200
TZOFFSETTO:+0100
TZNAME:CET
DTSTART:20231029T010000
END:STANDARD
END:VTIMEZONE
BEGIN:VEVENT
DTSTART;TZID=Europe/Paris:20230324T080000
DTEND;TZID=Europe/Paris:20230324T170000
DTSTAMP:20260421T002602
CREATED:20230311T155135Z
LAST-MODIFIED:20230311T155400Z
UID:3433-1679644800-1679677200@senioren-union-deggendorf.de
SUMMARY:CSU-SEN Ausflug zum Kloster Mallersdorf\, am Freitag\, 24.03.2023
DESCRIPTION:Liebe CSU-Senioren\, \nwir laden Euch gerne zum Ausflug zum Kloster Mallersdorf \nFreitag 24.03.2023 ein . \n  \nWir bitten um zahlreiche Anmeldungen an Hermann Hilmer \n  \nEinladung hier:Einladungen Klosterbrauerei Mallsdorf
URL:https://senioren-union-deggendorf.de/event/csu-sen-ausflug-zum-kloster-mallersdorf-am-freitag-24-03-2023/
LOCATION:Bayern
ATTACH;FMTTYPE=image/jpeg:https://senioren-union-deggendorf.de/wp-content/uploads/2023/03/Kloster-Mallersdorf.jpg
ORGANIZER;CN="Senioren-Union-Kreisverband Deggendorf":MAILTO:hermann.hilmer@gmail.com
END:VEVENT
END:VCALENDAR