BEGIN:VCALENDAR
VERSION:2.0
PRODID:-//Senioren-Union Kreisverband Deggendorf - ECPv6.3.0//NONSGML v1.0//EN
CALSCALE:GREGORIAN
METHOD:PUBLISH
X-ORIGINAL-URL:https://senioren-union-deggendorf.de
X-WR-CALDESC:Veranstaltungen für Senioren-Union Kreisverband Deggendorf
REFRESH-INTERVAL;VALUE=DURATION:PT1H
X-Robots-Tag:noindex
X-PUBLISHED-TTL:PT1H
BEGIN:VTIMEZONE
TZID:Europe/Paris
BEGIN:DAYLIGHT
TZOFFSETFROM:+0100
TZOFFSETTO:+0200
TZNAME:CEST
DTSTART:20230326T010000
END:DAYLIGHT
BEGIN:STANDARD
TZOFFSETFROM:+0200
TZOFFSETTO:+0100
TZNAME:CET
DTSTART:20231029T010000
END:STANDARD
END:VTIMEZONE
BEGIN:VEVENT
DTSTART;TZID=Europe/Paris:20230315T190000
DTEND;TZID=Europe/Paris:20230315T210000
DTSTAMP:20260421T002633
CREATED:20230311T154346Z
LAST-MODIFIED:20230311T154346Z
UID:3431-1678906800-1678914000@senioren-union-deggendorf.de
SUMMARY:Einladung Stammtisch Plattling -Schiltorn\, 15.03.2023\, 19.00 Uhr
DESCRIPTION:Liebe CSI Senioren\, \n  \ngerne laden wir Euch gerne zu unserem gewohnten Stammtisch am Mittwoch\, 15.März\, um 19.00 Uhr  im Gasthaus  „Spitzenberger“ in Schiltorn ein. \n  \nEinladung hier:Einl. Stammtisch GH Spitzenberger 15.03.23
URL:https://senioren-union-deggendorf.de/event/einladung-stammtisch-plattling-schiltorn-15-03-2023-19-00-uhr/
LOCATION:Bayern
ORGANIZER;CN="Senioren-Union-Kreisverband Deggendorf":MAILTO:hermann.hilmer@gmail.com
END:VEVENT
END:VCALENDAR