BEGIN:VCALENDAR
VERSION:2.0
PRODID:-//Senioren-Union Kreisverband Deggendorf - ECPv6.3.0//NONSGML v1.0//EN
CALSCALE:GREGORIAN
METHOD:PUBLISH
X-ORIGINAL-URL:https://senioren-union-deggendorf.de
X-WR-CALDESC:Veranstaltungen für Senioren-Union Kreisverband Deggendorf
REFRESH-INTERVAL;VALUE=DURATION:PT1H
X-Robots-Tag:noindex
X-PUBLISHED-TTL:PT1H
BEGIN:VTIMEZONE
TZID:Europe/Paris
BEGIN:DAYLIGHT
TZOFFSETFROM:+0100
TZOFFSETTO:+0200
TZNAME:CEST
DTSTART:20220327T010000
END:DAYLIGHT
BEGIN:STANDARD
TZOFFSETFROM:+0200
TZOFFSETTO:+0100
TZNAME:CET
DTSTART:20221030T010000
END:STANDARD
END:VTIMEZONE
BEGIN:VEVENT
DTSTART;TZID=Europe/Paris:20221106T080000
DTEND;TZID=Europe/Paris:20221106T170000
DTSTAMP:20260421T073842
CREATED:20221106T173746Z
LAST-MODIFIED:20221106T173746Z
UID:3369-1667721600-1667754000@senioren-union-deggendorf.de
SUMMARY:SEN-Stammtisch Osterhofen-Untergessenbach
DESCRIPTION:Liebe CSU-Senioren\, \n  \nEinladung zum Stammtisch GH Eder „Untergessenbach2 am Dienstag\, 08.11.2022\, 19.00 Uhr Uhr \n  \nEinladung hier:Einl. Stammtisch GH Eder 8.11.22
URL:https://senioren-union-deggendorf.de/event/sen-stammtisch-osterhofen-untergessenbach-2/
LOCATION:Bayern
END:VEVENT
END:VCALENDAR