BEGIN:VCALENDAR
VERSION:2.0
PRODID:-//Senioren-Union Kreisverband Deggendorf - ECPv6.3.0//NONSGML v1.0//EN
CALSCALE:GREGORIAN
METHOD:PUBLISH
X-WR-CALNAME:Senioren-Union Kreisverband Deggendorf
X-ORIGINAL-URL:https://senioren-union-deggendorf.de
X-WR-CALDESC:Veranstaltungen für Senioren-Union Kreisverband Deggendorf
REFRESH-INTERVAL;VALUE=DURATION:PT1H
X-Robots-Tag:noindex
X-PUBLISHED-TTL:PT1H
BEGIN:VTIMEZONE
TZID:Europe/Paris
BEGIN:DAYLIGHT
TZOFFSETFROM:+0100
TZOFFSETTO:+0200
TZNAME:CEST
DTSTART:20210328T010000
END:DAYLIGHT
BEGIN:STANDARD
TZOFFSETFROM:+0200
TZOFFSETTO:+0100
TZNAME:CET
DTSTART:20211031T010000
END:STANDARD
END:VTIMEZONE
BEGIN:VEVENT
DTSTART;TZID=Europe/Paris:20211117T190000
DTEND;TZID=Europe/Paris:20211117T210000
DTSTAMP:20260422T042119
CREATED:20211114T084816Z
LAST-MODIFIED:20211114T085158Z
UID:2984-1637175600-1637182800@senioren-union-deggendorf.de
SUMMARY:Einladung Stammtisch Plattling
DESCRIPTION:Liebe CSU-Senioren\, \n  \nherzlich seider Ihr wieder zum gewohnten Stammtisch am Mittwoch\, 17.12.2021\, 19.00 Uhr beim Gasthaus Spitzenberger in Schiltorn eingeladen. \n  \nEinladung hier:Einl. Stammtisch Spitzenberger
URL:https://senioren-union-deggendorf.de/event/einladung-stammtisch-plattling/
LOCATION:Bayern
END:VEVENT
END:VCALENDAR