BEGIN:VCALENDAR
VERSION:2.0
PRODID:-//Senioren-Union Kreisverband Deggendorf - ECPv6.3.0//NONSGML v1.0//EN
CALSCALE:GREGORIAN
METHOD:PUBLISH
X-ORIGINAL-URL:https://senioren-union-deggendorf.de
X-WR-CALDESC:Veranstaltungen für Senioren-Union Kreisverband Deggendorf
REFRESH-INTERVAL;VALUE=DURATION:PT1H
X-Robots-Tag:noindex
X-PUBLISHED-TTL:PT1H
BEGIN:VTIMEZONE
TZID:Europe/Paris
BEGIN:DAYLIGHT
TZOFFSETFROM:+0100
TZOFFSETTO:+0200
TZNAME:CEST
DTSTART:20210328T010000
END:DAYLIGHT
BEGIN:STANDARD
TZOFFSETFROM:+0200
TZOFFSETTO:+0100
TZNAME:CET
DTSTART:20211031T010000
END:STANDARD
END:VTIMEZONE
BEGIN:VEVENT
DTSTART;TZID=Europe/Paris:20210803T080000
DTEND;TZID=Europe/Paris:20210803T170000
DTSTAMP:20260422T100537
CREATED:20210803T131828Z
LAST-MODIFIED:20210803T131828Z
UID:2833-1627977600-1628010000@senioren-union-deggendorf.de
SUMMARY:CSU-SEN Stammtisch in Untergessenbach
DESCRIPTION:Liebe CSU-Senioren\, \n  \ngerne laden wir Euch wieder zum gewohnten CSU-SEN Stammtisch \nam Dienstag\, 03.August um 19.00 Uhr \, beim GH Eder in Untergessenbach ein. \n  \nEinladung hier:Einladung 03.08.21 \n 
URL:https://senioren-union-deggendorf.de/event/csu-sen-stammtisch-in-untergessenbach-5/
LOCATION:Bayern
END:VEVENT
END:VCALENDAR